BEGIN:VCALENDAR
VERSION:2.0
PRODID:-//FSCBG - ECPv6.15.18//NONSGML v1.0//EN
CALSCALE:GREGORIAN
METHOD:PUBLISH
X-ORIGINAL-URL:https://confreries.ch/fr
X-WR-CALDESC:Évènements pour FSCBG
REFRESH-INTERVAL;VALUE=DURATION:PT1H
X-Robots-Tag:noindex
X-PUBLISHED-TTL:PT1H
BEGIN:VTIMEZONE
TZID:Europe/Zurich
BEGIN:DAYLIGHT
TZOFFSETFROM:+0100
TZOFFSETTO:+0200
TZNAME:CEST
DTSTART:20250330T010000
END:DAYLIGHT
BEGIN:STANDARD
TZOFFSETFROM:+0200
TZOFFSETTO:+0100
TZNAME:CET
DTSTART:20251026T010000
END:STANDARD
BEGIN:DAYLIGHT
TZOFFSETFROM:+0100
TZOFFSETTO:+0200
TZNAME:CEST
DTSTART:20260329T010000
END:DAYLIGHT
BEGIN:STANDARD
TZOFFSETFROM:+0200
TZOFFSETTO:+0100
TZNAME:CET
DTSTART:20261025T010000
END:STANDARD
BEGIN:DAYLIGHT
TZOFFSETFROM:+0100
TZOFFSETTO:+0200
TZNAME:CEST
DTSTART:20270328T010000
END:DAYLIGHT
BEGIN:STANDARD
TZOFFSETFROM:+0200
TZOFFSETTO:+0100
TZNAME:CET
DTSTART:20271031T010000
END:STANDARD
END:VTIMEZONE
BEGIN:VEVENT
DTSTART;TZID=Europe/Zurich:20260430T190000
DTEND;TZID=Europe/Zurich:20260430T233000
DTSTAMP:20260422T000137
CREATED:20260109T130733Z
LAST-MODIFIED:20260109T130733Z
UID:10000273-1777575600-1777591800@confreries.ch
SUMMARY:Soirée dégustation d’asperges du Valais\, au Restaurant la Villa de Sierre.
DESCRIPTION:
URL:https://confreries.ch/fr/agenda/soiree-degustation-dasperges-du-valais-au-restaurant-la-villa-de-sierre/
CATEGORIES:Ordre de la Channe
END:VEVENT
END:VCALENDAR